BEGIN:VCALENDAR
PRODID:-//AT Content Types//AT Event//EN
VERSION:2.0
METHOD:PUBLISH
BEGIN:VEVENT
DTSTAMP:20260423T182535Z
CREATED:20181030T095609Z
UID:ATEvent-af1299e0bccd41d7aa1e4f31e2931d3c
LAST-MODIFIED:20181030T095615Z
SUMMARY:Victoria Day Holiday - school closed to all
DTSTART:20190527T080000Z
DTEND:20190527T140000Z
DESCRIPTION:Victoria Day Holiday - school closed to all
CLASS:PUBLIC
END:VEVENT
END:VCALENDAR
