BEGIN:VCALENDAR
PRODID:-//AT Content Types//AT Event//EN
VERSION:1.0
BEGIN:VEVENT
DTSTART:20200525T080000Z
DTEND:20200525T080000Z
DCREATED:20190826T105223Z
UID:ATEvent-ffc09b99428d423b9e2c70176dd2e7e9
SEQUENCE:0
LAST-MODIFIED:20190826T105227Z
SUMMARY:Victoria Day Holiday - School closed to all
DESCRIPTION:Victoria Day Holiday - School closed to all
PRIORITY:3
TRANSP:0
END:VEVENT
END:VCALENDAR
