BEGIN:VCALENDAR
PRODID:-//AT Content Types//AT Event//EN
VERSION:2.0
METHOD:PUBLISH
BEGIN:VEVENT
DTSTAMP:20260419T185630Z
CREATED:20190824T193510Z
UID:ATEvent-bc019e2ff35a43dd964156c027aaae63
LAST-MODIFIED:20190824T193956Z
SUMMARY:Term begins
DTSTART:20200107T090000Z
DTEND:20200107T090000Z
DESCRIPTION:Term begins
CLASS:PUBLIC
END:VEVENT
END:VCALENDAR
