BEGIN:VCALENDAR
PRODID:-//AT Content Types//AT Event//EN
VERSION:2.0
METHOD:PUBLISH
BEGIN:VEVENT
DTSTAMP:20260419T185645Z
CREATED:20181030T095812Z
UID:ATEvent-2378fabb057742f28887f0b44d397903
LAST-MODIFIED:20190531T150251Z
SUMMARY:Party in the Playground
DTSTART:20190601T093000Z
DTEND:20190601T113000Z
DESCRIPTION:Party in the Playground
LOCATION:School
CLASS:PUBLIC
END:VEVENT
END:VCALENDAR
