BEGIN:VCALENDAR
PRODID:-//AT Content Types//AT Event//EN
VERSION:1.0
BEGIN:VEVENT
DTSTART:20190401T080000Z
DTEND:20190401T141500Z
DCREATED:20181030T091536Z
UID:ATEvent-f99a2353dc8f495cae3105d578c731bb
SEQUENCE:0
LAST-MODIFIED:20181030T091739Z
SUMMARY:Spring Holiday
DESCRIPTION:Spring Holiday
PRIORITY:3
TRANSP:0
END:VEVENT
END:VCALENDAR
