BEGIN:VCALENDAR
PRODID:-//AT Content Types//AT Event//EN
VERSION:2.0
METHOD:PUBLISH
BEGIN:VEVENT
DTSTAMP:20260419T185752Z
CREATED:20180123T162430Z
UID:ATEvent-5b8cedc60adb46d584c14bcc9497c69c
LAST-MODIFIED:20180123T162829Z
SUMMARY:Scottish Afternoon
DTSTART:20180125T133000Z
DTEND:20180125T151500Z
CLASS:PUBLIC
END:VEVENT
END:VCALENDAR
