BEGIN:VCALENDAR
PRODID:-//AT Content Types//AT Event//EN
VERSION:1.0
BEGIN:VEVENT
DTSTART:20190320T190000Z
DTEND:20190320T210000Z
DCREATED:20181030T090457Z
UID:ATEvent-33c9d8bc65c842e5bd4a8c1bbbb1664d
SEQUENCE:0
LAST-MODIFIED:20181030T090500Z
SUMMARY:School Show\, Gardyne Theatre
DESCRIPTION:School Show\, Gardyne Theatre
LOCATION:Gardyne Theatre
PRIORITY:3
TRANSP:0
END:VEVENT
END:VCALENDAR
