BEGIN:VCALENDAR
PRODID:-//AT Content Types//AT Event//EN
VERSION:1.0
BEGIN:VEVENT
DTSTART:20190321T190000Z
DTEND:20190321T203000Z
DCREATED:20181030T091252Z
UID:ATEvent-c8ecb1dafc71460aa530220f0750e6f2
SEQUENCE:0
LAST-MODIFIED:20181030T091254Z
SUMMARY:School Show\, Gardyne Theatre
DESCRIPTION:School Show\, Gardyne Theatre
LOCATION:Gardyne Theatre
PRIORITY:3
TRANSP:0
END:VEVENT
END:VCALENDAR
