BEGIN:VCALENDAR
PRODID:-//AT Content Types//AT Event//EN
VERSION:2.0
METHOD:PUBLISH
BEGIN:VEVENT
DTSTAMP:20260423T182449Z
CREATED:20191113T155654Z
UID:ATEvent-1758ffe467e9460d85c3023aa4d294d7
LAST-MODIFIED:20191113T155657Z
SUMMARY:School Christmas Lunch/Christmas Jumper Day
DTSTART:20191213T090000Z
DTEND:20191213T151500Z
DESCRIPTION:School Christmas Lunch/Christmas Jumper Day
CLASS:PUBLIC
END:VEVENT
END:VCALENDAR
