BEGIN:VCALENDAR
PRODID:-//AT Content Types//AT Event//EN
VERSION:2.0
METHOD:PUBLISH
BEGIN:VEVENT
DTSTAMP:20260419T185912Z
CREATED:20121108T111008Z
UID:ATEvent-7a7c3c118017482a89d4e1788b9b07c3
LAST-MODIFIED:20121108T111030Z
SUMMARY:Safetaysiders
DTSTART:20120906T083000Z
DTEND:20120906T110000Z
DESCRIPTION:Safetaysiders
CLASS:PUBLIC
END:VEVENT
END:VCALENDAR
