BEGIN:VCALENDAR
PRODID:-//AT Content Types//AT Event//EN
VERSION:1.0
BEGIN:VEVENT
DTSTART:20191021T080000Z
DTEND:20191021T080000Z
DCREATED:20190823T202722Z
UID:ATEvent-ea5915c2f7c04d3c8ea28b96b91864e6
SEQUENCE:0
LAST-MODIFIED:20190823T202727Z
SUMMARY:Return to school
DESCRIPTION:Return to school
PRIORITY:3
TRANSP:0
END:VEVENT
END:VCALENDAR
