BEGIN:VCALENDAR
PRODID:-//AT Content Types//AT Event//EN
VERSION:1.0
BEGIN:VEVENT
DTSTART:20200413T080000Z
DTEND:20200413T080000Z
DCREATED:20190826T104254Z
UID:ATEvent-99ccc34b75a34eecba397bb195c95a93
SEQUENCE:0
LAST-MODIFIED:20190826T104257Z
SUMMARY:Return to school
DESCRIPTION:Return to school
PRIORITY:3
TRANSP:0
END:VEVENT
END:VCALENDAR
