BEGIN:VCALENDAR
PRODID:-//AT Content Types//AT Event//EN
VERSION:2.0
METHOD:PUBLISH
BEGIN:VEVENT
DTSTAMP:20260423T180511Z
CREATED:20180612T105756Z
UID:ATEvent-c6c0dbb2297a40f2abda64eeea78e56d
LAST-MODIFIED:20180612T105800Z
SUMMARY:Prize Giving
DTSTART:20180620T230500Z
DTEND:20180620T231000Z
DESCRIPTION:Prize Giving
CLASS:PUBLIC
END:VEVENT
END:VCALENDAR
