BEGIN:VCALENDAR
PRODID:-//AT Content Types//AT Event//EN
VERSION:1.0
BEGIN:VEVENT
DTSTART:20200606T093000Z
DTEND:20200606T113000Z
DCREATED:20190826T105505Z
UID:ATEvent-f504c8b325ff42838c61fa478558b1b2
SEQUENCE:0
LAST-MODIFIED:20190826T105507Z
SUMMARY:Party in the Playground
DESCRIPTION:Party in the Playground
PRIORITY:3
TRANSP:0
END:VEVENT
END:VCALENDAR
