BEGIN:VCALENDAR
PRODID:-//AT Content Types//AT Event//EN
VERSION:1.0
BEGIN:VEVENT
DTSTART:20200618T173000Z
DTEND:20200618T190000Z
DCREATED:20190826T110334Z
UID:ATEvent-a6cc25cf17b5437f9803b834e2c0c451
SEQUENCE:0
LAST-MODIFIED:20190826T110337Z
SUMMARY:Parent Council Summer Disco P4-7 times tbc
DESCRIPTION:Parent Council Summer Disco P4-7 times tbc
PRIORITY:3
TRANSP:0
END:VEVENT
END:VCALENDAR
