BEGIN:VCALENDAR
PRODID:-//AT Content Types//AT Event//EN
VERSION:2.0
METHOD:PUBLISH
BEGIN:VEVENT
DTSTAMP:20260419T190055Z
CREATED:20150501T141057Z
UID:ATEvent-25cae597943548b0b2b5f106de24851e
LAST-MODIFIED:20150501T141104Z
SUMMARY:Parent Council Meeting
DTSTART:20150512T180000Z
DTEND:20150512T201000Z
DESCRIPTION:Parent Council Meeting
LOCATION:Staff Room
CLASS:PUBLIC
END:VEVENT
END:VCALENDAR
