BEGIN:VCALENDAR
PRODID:-//AT Content Types//AT Event//EN
VERSION:1.0
BEGIN:VEVENT
DTSTART:20191106T190000Z
DTEND:20191106T203000Z
DCREATED:20190823T203713Z
UID:ATEvent-9b18444e73f44a09980f0f4ad5ba25b7
SEQUENCE:0
LAST-MODIFIED:20191104T140751Z
SUMMARY:Parent Council (Friends of Barnhill) meeting
DESCRIPTION:Parent Council (Friends of Barnhill) meeting
PRIORITY:3
TRANSP:0
END:VEVENT
END:VCALENDAR
