BEGIN:VCALENDAR
PRODID:-//AT Content Types//AT Event//EN
VERSION:2.0
METHOD:PUBLISH
BEGIN:VEVENT
DTSTAMP:20260419T185932Z
CREATED:20151112T144008Z
UID:ATEvent-d90a0c9ad56b49c5b1d71a27219e0925
LAST-MODIFIED:20151112T144013Z
SUMMARY:Parent Council AGM
DTSTART:20151118T190000Z
DTEND:20151118T203000Z
DESCRIPTION:Parent Council AGM
LOCATION:Assemble Hall
CLASS:PUBLIC
END:VEVENT
END:VCALENDAR
