BEGIN:VCALENDAR
PRODID:-//AT Content Types//AT Event//EN
VERSION:2.0
METHOD:PUBLISH
BEGIN:VEVENT
DTSTAMP:20260419T185958Z
CREATED:20190824T195204Z
UID:ATEvent-0156fd99c08543cfba635a2dc967dc75
LAST-MODIFIED:20190824T195208Z
SUMMARY:Parent Contact Evening
DTSTART:20200211T160000Z
DTEND:20200211T190000Z
DESCRIPTION:Parent Contact Evening
CLASS:PUBLIC
END:VEVENT
END:VCALENDAR
