BEGIN:VCALENDAR
PRODID:-//AT Content Types//AT Event//EN
VERSION:1.0
BEGIN:VEVENT
DTSTART:20200220T160000Z
DTEND:20200220T190000Z
DCREATED:20190824T195058Z
UID:ATEvent-9f6d6021376c4c5586bcb2a08ba3d052
SEQUENCE:0
LAST-MODIFIED:20200127T222549Z
SUMMARY:Parent Contact Evening
DESCRIPTION:Parent Contact Evening
PRIORITY:3
TRANSP:0
END:VEVENT
END:VCALENDAR
