BEGIN:VCALENDAR
PRODID:-//AT Content Types//AT Event//EN
VERSION:2.0
METHOD:PUBLISH
BEGIN:VEVENT
DTSTAMP:20260419T185958Z
CREATED:20190824T194921Z
UID:ATEvent-1b152a5a58a440ee9e4a190847fba6a9
LAST-MODIFIED:20190920T104731Z
SUMMARY:Parent Contact Evening
DTSTART:20191003T150000Z
DTEND:20191003T180000Z
DESCRIPTION:Parent Contact Evening
CLASS:PUBLIC
END:VEVENT
END:VCALENDAR
