BEGIN:VCALENDAR
PRODID:-//AT Content Types//AT Event//EN
VERSION:2.0
METHOD:PUBLISH
BEGIN:VEVENT
DTSTAMP:20260419T185958Z
CREATED:20181030T085744Z
UID:ATEvent-b9890e0fa24941f7b34d19cf28188319
LAST-MODIFIED:20181030T100932Z
SUMMARY:Parent Contact Evening
DTSTART:20190212T160000Z
DTEND:20190212T190000Z
DESCRIPTION:Parent Contact Evening
CLASS:PUBLIC
END:VEVENT
END:VCALENDAR
