BEGIN:VCALENDAR
PRODID:-//AT Content Types//AT Event//EN
VERSION:2.0
METHOD:PUBLISH
BEGIN:VEVENT
DTSTAMP:20260419T185958Z
CREATED:20180927T132041Z
UID:ATEvent-906377a2d78f4265807708499567132a
LAST-MODIFIED:20180927T132044Z
SUMMARY:Parent Contact Evening
DTSTART:20181004T150000Z
DTEND:20181004T180000Z
DESCRIPTION:Parent Contact Evening
CLASS:PUBLIC
END:VEVENT
END:VCALENDAR
