BEGIN:VCALENDAR
PRODID:-//AT Content Types//AT Event//EN
VERSION:1.0
BEGIN:VEVENT
DTSTART:20181002T160000Z
DTEND:20181002T190000Z
DCREATED:20180927T132000Z
UID:ATEvent-e3ea339fbae44a708cf6d0343b2e7f5b
SEQUENCE:0
LAST-MODIFIED:20180927T132004Z
SUMMARY:Parent Contact Evening
DESCRIPTION:Parent Contact Evening
LOCATION:School
PRIORITY:3
TRANSP:0
END:VEVENT
END:VCALENDAR
