BEGIN:VCALENDAR
PRODID:-//AT Content Types//AT Event//EN
VERSION:2.0
METHOD:PUBLISH
BEGIN:VEVENT
DTSTAMP:20260419T190034Z
CREATED:20141007T162418Z
UID:ATEvent-4624e829ac5944b5b0137b8ee14c4df5
LAST-MODIFIED:20141028T090741Z
SUMMARY:Parent Contact Evening
DTSTART:20141106T170000Z
DTEND:20141106T200000Z
DESCRIPTION:Parent Contact Evening
CLASS:PUBLIC
END:VEVENT
END:VCALENDAR
