BEGIN:VCALENDAR
PRODID:-//AT Content Types//AT Event//EN
VERSION:2.0
METHOD:PUBLISH
BEGIN:VEVENT
DTSTAMP:20260419T190244Z
CREATED:20181030T090204Z
UID:ATEvent-4b73fdea22c44b1a8edb86304ee10d54
LAST-MODIFIED:20181030T090207Z
SUMMARY:Parent Association meeting\, Staff Room 7pm
DTSTART:20190313T190000Z
DTEND:20190313T203000Z
DESCRIPTION:Parent Association meeting\, Staff Room 7pm
CLASS:PUBLIC
END:VEVENT
END:VCALENDAR
