BEGIN:VCALENDAR
PRODID:-//AT Content Types//AT Event//EN
VERSION:1.0
BEGIN:VEVENT
DTSTART:20190418T180000Z
DTEND:20190418T193000Z
DCREATED:20181030T094813Z
UID:ATEvent-e3dbcd628258469e86d5ce4a3dd56de8
SEQUENCE:0
LAST-MODIFIED:20181030T101115Z
SUMMARY:Parent Association meeting\, Staff Room 7pm
DESCRIPTION:Parent Association meeting\, Staff Room 7pm
LOCATION:School
PRIORITY:3
TRANSP:0
END:VEVENT
END:VCALENDAR
