BEGIN:VCALENDAR
PRODID:-//AT Content Types//AT Event//EN
VERSION:2.0
METHOD:PUBLISH
BEGIN:VEVENT
DTSTAMP:20260419T185958Z
CREATED:20141007T162606Z
UID:ATEvent-4525fd9bedc74ed4a3279d71c41c47a0
LAST-MODIFIED:20141007T162624Z
SUMMARY:Parent Association Christmas Bazaar
DTSTART:20141122T100000Z
DTEND:20141122T130000Z
DESCRIPTION:Parent Association Christmas Bazaar
CLASS:PUBLIC
END:VEVENT
END:VCALENDAR
