BEGIN:VCALENDAR
PRODID:-//AT Content Types//AT Event//EN
VERSION:1.0
BEGIN:VEVENT
DTSTART:20180905T173000Z
DTEND:20180905T190000Z
DCREATED:20180830T191434Z
UID:ATEvent-5dbfc1d664f94f0cabca337615001618
SEQUENCE:0
LAST-MODIFIED:20180830T191440Z
SUMMARY:Parent Association AGM
DESCRIPTION:Parent Association AGM
LOCATION:School Gym Hall
PRIORITY:3
TRANSP:0
END:VEVENT
END:VCALENDAR
