BEGIN:VCALENDAR
PRODID:-//AT Content Types//AT Event//EN
VERSION:1.0
BEGIN:VEVENT
DTSTART:20190621T124500Z
DTEND:20190621T140000Z
DCREATED:20181030T100300Z
UID:ATEvent-70722ec98cb04e7daa7abfb0729d3191
SEQUENCE:0
LAST-MODIFIED:20181030T100303Z
SUMMARY:PA Summer Disco P1-3
DESCRIPTION:PA Summer Disco P1-3
PRIORITY:3
TRANSP:0
END:VEVENT
END:VCALENDAR
