BEGIN:VCALENDAR
PRODID:-//AT Content Types//AT Event//EN
VERSION:2.0
METHOD:PUBLISH
BEGIN:VEVENT
DTSTAMP:20260419T185752Z
CREATED:20150602T082457Z
UID:ATEvent-c1c6a5c4d9aa4dee8292557ac1dd1472
LAST-MODIFIED:20150602T082503Z
SUMMARY:PA Fun Day
DTSTART:20150606T090000Z
DTEND:20150606T120000Z
DESCRIPTION:PA Fun Day
LOCATION:Barnhill PS
CLASS:PUBLIC
END:VEVENT
END:VCALENDAR
