BEGIN:VCALENDAR
PRODID:-//AT Content Types//AT Event//EN
VERSION:2.0
METHOD:PUBLISH
BEGIN:VEVENT
DTSTAMP:20260419T185912Z
CREATED:20151112T135036Z
UID:ATEvent-b9d5d1ac85774cf7bdd419b9a5666190
LAST-MODIFIED:20151112T135044Z
SUMMARY:PA Christmas Bazaar
DTSTART:20151121T100000Z
DTEND:20151121T130000Z
DESCRIPTION:PA Christmas Bazaar
LOCATION:Barnhill
CLASS:PUBLIC
END:VEVENT
END:VCALENDAR
