BEGIN:VCALENDAR
PRODID:-//AT Content Types//AT Event//EN
VERSION:1.0
BEGIN:VEVENT
DTSTART:20181201T100000Z
DTEND:20181201T123000Z
DCREATED:20181029T203406Z
UID:ATEvent-79735911bc144e458dd876c4893a43ad
SEQUENCE:0
LAST-MODIFIED:20181029T203410Z
SUMMARY:PA Christmas Bazaar
DESCRIPTION:PA Christmas Bazaar
LOCATION:School
PRIORITY:3
TRANSP:0
END:VEVENT
END:VCALENDAR
