BEGIN:VCALENDAR
PRODID:-//AT Content Types//AT Event//EN
VERSION:2.0
METHOD:PUBLISH
BEGIN:VEVENT
DTSTAMP:20260423T182315Z
CREATED:20190823T201833Z
UID:ATEvent-df45e8701c97413a9465979d2cba6e0e
LAST-MODIFIED:20190823T201838Z
SUMMARY:P7 Residential trip to Dalguise
DTSTART:20190909T120000Z
DTEND:20190913T141500Z
DESCRIPTION:P7 Residential trip to Dalguise
CLASS:PUBLIC
END:VEVENT
END:VCALENDAR
