BEGIN:VCALENDAR
PRODID:-//AT Content Types//AT Event//EN
VERSION:1.0
BEGIN:VEVENT
DTSTART:20200619T110000Z
DTEND:20200619T114500Z
DCREATED:20190826T110438Z
UID:ATEvent-6e3b42258ba440c2a7f744cd60f4e268
SEQUENCE:0
LAST-MODIFIED:20190826T110441Z
SUMMARY:P7 Lunch at the church
DESCRIPTION:P7 Lunch at the church
PRIORITY:3
TRANSP:0
END:VEVENT
END:VCALENDAR
