BEGIN:VCALENDAR
PRODID:-//AT Content Types//AT Event//EN
VERSION:2.0
METHOD:PUBLISH
BEGIN:VEVENT
DTSTAMP:20260419T185646Z
CREATED:20181030T100528Z
UID:ATEvent-78bfd20544b44d8f919ff8095dc78a32
LAST-MODIFIED:20181030T100533Z
SUMMARY:P7 Dance
DTSTART:20190625T180000Z
DTEND:20190625T200000Z
DESCRIPTION:P7 Dance
LOCATION:School
CLASS:PUBLIC
END:VEVENT
END:VCALENDAR
