BEGIN:VCALENDAR
PRODID:-//AT Content Types//AT Event//EN
VERSION:1.0
BEGIN:VEVENT
DTSTART:20180924T080000Z
DTEND:20180928T141500Z
DCREATED:20180807T124722Z
UID:ATEvent-1cd57928d74c477e96ee61c2411b8b67
SEQUENCE:0
LAST-MODIFIED:20180807T124725Z
SUMMARY:P7 Dalguise Trip
DESCRIPTION:P7 Dalguise Trip
LOCATION:Dalguise
PRIORITY:3
TRANSP:0
END:VEVENT
END:VCALENDAR
