BEGIN:VCALENDAR
PRODID:-//AT Content Types//AT Event//EN
VERSION:2.0
METHOD:PUBLISH
BEGIN:VEVENT
DTSTAMP:20260419T185728Z
CREATED:20150108T113757Z
UID:ATEvent-9d0763bdf1b84bd494c265f4b8045079
LAST-MODIFIED:20150108T113803Z
SUMMARY:P7 Burns Supper
DTSTART:20150122T173000Z
DTEND:20150122T193000Z
DESCRIPTION:P7 Burns Supper
LOCATION:Assembly Hall
CLASS:PUBLIC
END:VEVENT
END:VCALENDAR
