BEGIN:VCALENDAR
PRODID:-//AT Content Types//AT Event//EN
VERSION:2.0
METHOD:PUBLISH
BEGIN:VEVENT
DTSTAMP:20260419T185759Z
CREATED:20191209T095724Z
UID:ATEvent-a9f8fea8d2654b2ea141ed356a3c722c
LAST-MODIFIED:20191209T095727Z
SUMMARY:P6/7 Show
DTSTART:20200325T190000Z
DTEND:20200325T204500Z
DESCRIPTION:P6/7 Show
LOCATION:Gardyne Theatre
CLASS:PUBLIC
END:VEVENT
END:VCALENDAR
