BEGIN:VCALENDAR
PRODID:-//AT Content Types//AT Event//EN
VERSION:1.0
BEGIN:VEVENT
DTSTART:20150330T180000Z
DTEND:20150330T200000Z
DCREATED:20150318T095418Z
UID:ATEvent-63f24389a26449b5903ad6974e06da1e
SEQUENCE:0
LAST-MODIFIED:20150318T095423Z
SUMMARY:P6/7 Show - Robin and the Sherwood Hoodies
DESCRIPTION:P6/7 Show - Robin and the Sherwood Hoodies
LOCATION:Gardyne Theatre
PRIORITY:3
TRANSP:0
END:VEVENT
END:VCALENDAR
