BEGIN:VCALENDAR
PRODID:-//AT Content Types//AT Event//EN
VERSION:2.0
METHOD:PUBLISH
BEGIN:VEVENT
DTSTAMP:20260423T181001Z
CREATED:20190824T194235Z
UID:ATEvent-1f76ea77704543ae9c7e159a1c796c38
LAST-MODIFIED:20200108T162104Z
SUMMARY:P5 Scottish Afternoon
DTSTART:20200124T140000Z
DTEND:20200124T144500Z
DESCRIPTION:P5 Scottish Afternoon
CLASS:PUBLIC
END:VEVENT
END:VCALENDAR
