BEGIN:VCALENDAR
PRODID:-//AT Content Types//AT Event//EN
VERSION:2.0
METHOD:PUBLISH
BEGIN:VEVENT
DTSTAMP:20260419T185922Z
CREATED:20181030T085542Z
UID:ATEvent-2d15c0aa9dd74296bf4252d6b3e4b41c
LAST-MODIFIED:20181030T085546Z
SUMMARY:P5 Scottish Afternoon – 2pm
DTSTART:20190124T140000Z
DTEND:20190124T150000Z
DESCRIPTION:P5 Scottish Afternoon – 2pm
LOCATION:School Hall
CLASS:PUBLIC
END:VEVENT
END:VCALENDAR
