BEGIN:VCALENDAR
PRODID:-//AT Content Types//AT Event//EN
VERSION:1.0
BEGIN:VEVENT
DTSTART:20150130T093000Z
DTEND:20150130T114500Z
DCREATED:20150108T113939Z
UID:ATEvent-5f2b2eba43164c24bd8ce5341fa7eef3
SEQUENCE:0
LAST-MODIFIED:20150108T113946Z
SUMMARY:P5 attending Scottish Country Dance Festival
DESCRIPTION:Scottish Country Dance Festival.
LOCATION:Fintry PS
PRIORITY:3
TRANSP:0
END:VEVENT
END:VCALENDAR
