BEGIN:VCALENDAR
PRODID:-//AT Content Types//AT Event//EN
VERSION:2.0
METHOD:PUBLISH
BEGIN:VEVENT
DTSTAMP:20260423T181444Z
CREATED:20181023T193723Z
UID:ATEvent-7602ce7332474857af3907096a90e344
LAST-MODIFIED:20181023T193729Z
SUMMARY:P4-7 Bonfire Night Safety Assembly
DTSTART:20181105T104500Z
DTEND:20181105T114500Z
DESCRIPTION:P4-7 Bonfire Night Safety Assembly
CLASS:PUBLIC
END:VEVENT
END:VCALENDAR
