BEGIN:VCALENDAR
PRODID:-//AT Content Types//AT Event//EN
VERSION:1.0
BEGIN:VEVENT
DTSTART:20191113T141500Z
DTEND:20191113T150000Z
DCREATED:20190823T203933Z
UID:ATEvent-c6274e9955c141dbbb5cf64f0cbbc54a
SEQUENCE:0
LAST-MODIFIED:20190823T203946Z
SUMMARY:P2-7 Open Afternoon
DESCRIPTION:P2-7 Open Afternoon
PRIORITY:3
TRANSP:0
END:VEVENT
END:VCALENDAR
