BEGIN:VCALENDAR
PRODID:-//AT Content Types//AT Event//EN
VERSION:1.0
BEGIN:VEVENT
DTSTART:20180912T131500Z
DTEND:20180912T140000Z
DCREATED:20180830T191656Z
UID:ATEvent-8d160b7bd58c42d9be8e401d798495bd
SEQUENCE:0
LAST-MODIFIED:20180830T191701Z
SUMMARY:P1 open afternoon
DESCRIPTION:P1 open afternoon
PRIORITY:3
TRANSP:0
END:VEVENT
END:VCALENDAR
