BEGIN:VCALENDAR
PRODID:-//AT Content Types//AT Event//EN
VERSION:1.0
BEGIN:VEVENT
DTSTART:20181212T141500Z
DTEND:20181212T150000Z
DCREATED:20181029T204021Z
UID:ATEvent-d706c4a9d2cd45b59fc44e5b11f8b68b
SEQUENCE:0
LAST-MODIFIED:20181029T204026Z
SUMMARY:P1 Nativity
DESCRIPTION:P1 Nativity
LOCATION:School
PRIORITY:3
TRANSP:0
END:VEVENT
END:VCALENDAR
