BEGIN:VCALENDAR
PRODID:-//AT Content Types//AT Event//EN
VERSION:1.0
BEGIN:VEVENT
DTSTART:20181211T141500Z
DTEND:20181211T150000Z
DCREATED:20181029T203827Z
UID:ATEvent-b515b106d607445a86846d6af9d78bae
SEQUENCE:0
LAST-MODIFIED:20181029T203832Z
SUMMARY:P1 Nativity
DESCRIPTION:P1 Nativity
LOCATION:School
PRIORITY:3
TRANSP:0
END:VEVENT
END:VCALENDAR
