BEGIN:VCALENDAR
PRODID:-//AT Content Types//AT Event//EN
VERSION:1.0
BEGIN:VEVENT
DTSTART:20141210T134500Z
DTEND:20141210T150000Z
DCREATED:20141128T205758Z
UID:ATEvent-1d6867bc782f46cab4376dc11a2ec4cc
SEQUENCE:0
LAST-MODIFIED:20141128T205802Z
SUMMARY:P1 Nativity
DESCRIPTION:P1 Nativity
LOCATION:Old Hall
PRIORITY:3
TRANSP:0
END:VEVENT
END:VCALENDAR
