BEGIN:VCALENDAR
PRODID:-//AT Content Types//AT Event//EN
VERSION:2.0
METHOD:PUBLISH
BEGIN:VEVENT
DTSTAMP:20260419T185805Z
CREATED:20141128T205625Z
UID:ATEvent-6d2c425122d04fd6b8e06c784a8d06ed
LAST-MODIFIED:20141128T205632Z
SUMMARY:P1 Nativity
DTSTART:20141210T183000Z
DTEND:20141210T200000Z
DESCRIPTION:P1 Nativity
LOCATION:Old Hall
CLASS:PUBLIC
END:VEVENT
END:VCALENDAR
